BEGIN:VCALENDAR
VERSION:2.0
PRODID:-//Squarespace Inc/Squarespace 6//v6//EN
BEGIN:VEVENT
UID:5b029eb6352f534e972d82e3@squarespace.com
DTSTAMP:20180523T083715Z
DTSTART:20180921T070000Z
DTEND:20180921T100000Z
SUMMARY:Pegasus Bay Art Show (Opening Night)
GEO:-43.31517;172.692421
LOCATION:Pegasus Bay School\, 5 Solander Rd\, Pegasus\, Canterbury\, 7691\, 
 New Zealand
END:VEVENT
END:VCALENDAR
