BEGIN:VCALENDAR
VERSION:2.0
PRODID:-//Squarespace Inc/Squarespace 6//v6//EN
BEGIN:VEVENT
UID:5b02b54faa4a99a865fe8eba@squarespace.com
DTSTAMP:20180523T083831Z
DTSTART:20180921T220000Z
DTEND:20180923T040000Z
SUMMARY:Pegasus Bay Art Show (Open Weekend)
GEO:-43.31517;172.692421
LOCATION:Pegasus Bay School\, 5 Solander Rd\, Pegasus\, Canterbury\, 7691\, 
 New Zealand
END:VEVENT
END:VCALENDAR
