BEGIN:VCALENDAR
VERSION:2.0
PRODID:-//Squarespace Inc/Squarespace 6//v6//EN
BEGIN:VEVENT
UID:5e2ea2dc9e79e43c691064a1@squarespace.com
DTSTAMP:20201009T025035Z
DTSTART:20201030T063000Z
DTEND:20201030T093000Z
SUMMARY:Art Show: WAI 2020 (Opening Night)
GEO:-43.289741;172.684554
LOCATION:ID Gallery\, Main Nirth ROAD\, Waikuku\, Canterbury\, 7473\, Aotea
 roa
END:VEVENT
END:VCALENDAR
