BEGIN:VCALENDAR
VERSION:2.0
PRODID:-//Squarespace Inc/Squarespace 6//v6//EN
BEGIN:VEVENT
UID:5e2eaa1db5f4e50703f6577a@squarespace.com
DTSTAMP:20201009T025053Z
DTSTART:20201030T210000Z
DTEND:20201101T030000Z
SUMMARY:Art Show: WAI 2020 (Open Days)
GEO:-43.289741;172.684554
LOCATION:ID Gallery\, Main Nirth ROAD\, Waikuku\, Canterbury\, 7473\, Aotea
 roa
END:VEVENT
END:VCALENDAR
