BEGIN:VCALENDAR
VERSION:2.0
PRODID:-//Squarespace Inc/Squarespace 6//v6//EN
BEGIN:VEVENT
UID:5baa0bb31905f44e420aca42@squarespace.com
DTSTAMP:20200127T084412Z
DTSTART:20190208T063000Z
DTEND:20190208T093000Z
SUMMARY:Art Show: WAI 19 (Opening Night)
GEO:-43.296542;172.684089
LOCATION:ID Gallery\, Main North Road\, Waikuku\, Canterbury\, New Zealand
END:VEVENT
END:VCALENDAR
