BEGIN:VCALENDAR
VERSION:2.0
PRODID:-//Squarespace Inc/Squarespace 6//v6//EN
BEGIN:VEVENT
UID:5b66bd1c8a922d4284137ddf@squarespace.com
DTSTAMP:20180805T094929Z
DTSTART:20180815T073000Z
DTEND:20180815T093000Z
SUMMARY:Annual General Meeting (AGM)
GEO:-43.313131;172.670283
LOCATION:St Barnabas Church\, 147 Main N Rd\, Woodend\, Canterbury\, 7610\, 
 New Zealand
END:VEVENT
END:VCALENDAR
