BEGIN:VCALENDAR
VERSION:2.0
PRODID:-//Squarespace Inc/Squarespace 6//v6//EN
BEGIN:VEVENT
UID:58f1e3672e69cfd3f8d65e82@squarespace.com
DTSTAMP:20180925T101931Z
DTSTART:20180209T063000Z
DTEND:20180209T093000Z
SUMMARY:Opening Night: WAI 18
GEO:-43.296542;172.684089
LOCATION:ID Gallery\, Main North Road\, Waikuku\, Canterbury\, New Zealand
END:VEVENT
END:VCALENDAR
