BEGIN:VCALENDAR
VERSION:2.0
PRODID:-//Squarespace Inc/Squarespace 6//v6//EN
BEGIN:VEVENT
UID:58f1e4291b10e32ee60dec56@squarespace.com
DTSTAMP:20180925T103134Z
DTSTART:20180209T210000Z
DTEND:20180211T030000Z
SUMMARY:Wai Art Show (Open Days)
GEO:-43.296542;172.684089
LOCATION:ID Gallery\, Main North Road\, Waikuku\, Canterbury\, New Zealand
END:VEVENT
END:VCALENDAR
