BEGIN:VCALENDAR
VERSION:2.0
PRODID:-//Squarespace Inc/Squarespace 6//v6//EN
BEGIN:VEVENT
UID:589af3d946c3c43e718a1ab8@squarespace.com
DTSTAMP:20170208T104115Z
DTSTART:20170210T060000Z
DTEND:20170210T090000Z
SUMMARY:OPENING NIGHT: Colours
GEO:-43.296542;172.684089
LOCATION:ID Gallery\, Main North Road\, Waikuku\, Canterbury\, New Zealand
END:VEVENT
END:VCALENDAR
