BEGIN:VCALENDAR
VERSION:2.0
PRODID:-//Squarespace Inc/Squarespace 6//v6//EN
BEGIN:VEVENT
UID:58f1e072ebbd1aeb69f0c41f@squarespace.com
DTSTAMP:20170602T020903Z
DTSTART:20171013T060000Z
DTEND:20171013T090000Z
SUMMARY:Pegasus Bay Art Show (Opening Night)
GEO:-43.31517;172.692421
LOCATION:Pegasus Bay School\, 5 Solander Rd\, Pegasus\, Canterbury\, 7691\, 
 New Zealand
END:VEVENT
END:VCALENDAR
