BEGIN:VCALENDAR
VERSION:2.0
PRODID:-//Squarespace Inc/Squarespace 6//v6//EN
BEGIN:VEVENT
UID:592fe171d482e9f118df5b84@squarespace.com
DTSTAMP:20180521T104222Z
DTSTART:20171013T210000Z
DTEND:20171015T030000Z
SUMMARY:Pegasus Bay Art Show (Open Days)
GEO:-43.31517;172.692421
LOCATION:Pegasus Bay School\, 5 Solander Rd\, Pegasus\, Canterbury\, 7691\, 
 New Zealand
END:VEVENT
END:VCALENDAR
