BEGIN:VCALENDAR
VERSION:2.0
PRODID:-//Squarespace Inc/Squarespace 6//v6//EN
BEGIN:VEVENT
UID:5851217f6a496378d70a1593@squarespace.com
DTSTAMP:20161214T105150Z
DTSTART:20170107T193000Z
DTEND:20170107T233000Z
SUMMARY:Sand Sculpture Competition
GEO:-43.287104;172.716115
LOCATION:Waikuku Beach Surf Life Saving Club\, Waikuku Beach\, New Zealand
END:VEVENT
END:VCALENDAR
