BEGIN:VCALENDAR
VERSION:2.0
PRODID:-//Squarespace Inc/Squarespace 6//v6//EN
BEGIN:VEVENT
UID:57a9c65d03596e915f9205f5@squarespace.com
DTSTAMP:20160809T120548Z
DTSTART:20160811T070000Z
DTEND:20160811T080000Z
SUMMARY:AGM
END:VEVENT
END:VCALENDAR
