BEGIN:VCALENDAR
VERSION:2.0
PRODID:-//Squarespace Inc/Squarespace 6//v6//EN
BEGIN:VEVENT
UID:5694b07969492eeb1b3d7418@squarespace.com
DTSTAMP:20161002T221058Z
DTSTART:20161007T060000Z
DTEND:20161007T100000Z
SUMMARY:Pegasus Bay Art Show Opening Night
GEO:-43.313913;172.691895
LOCATION:Pegasus Bay School\, Solander Road\, Pegasus\, Canterbury\, 7691\, 
 New Zealand
END:VEVENT
END:VCALENDAR
