BEGIN:VCALENDAR
VERSION:2.0
PRODID:-//Squarespace Inc/Squarespace 6//v6//EN
BEGIN:VEVENT
UID:565ed505e4b0b002ffcd2551@squarespace.com
DTSTAMP:20160105T225535Z
DTSTART:20160327T183000Z
DTEND:20160328T063000Z
SUMMARY:Watercolour Masterclass
GEO:-43.287104;172.716115
LOCATION:Waikuku Beach\, North Canterbury\, New Zealand
END:VEVENT
END:VCALENDAR
