BEGIN:VCALENDAR
VERSION:2.0
PRODID:-//Squarespace Inc/Squarespace 6//v6//EN
BEGIN:VEVENT
UID:56f3d28260b5e90832c31faa@squarespace.com
DTSTAMP:20170118T083759Z
DTSTART:20170210T210000Z
DTEND:20170212T030000Z
SUMMARY:Art Exhibition: Colours
GEO:-43.296542;172.684089
LOCATION:id gallery\, Brick Mill\, Main North Road\, Waikuku\, Canterbury\, 
 8053\, New Zealand
END:VEVENT
END:VCALENDAR
