BEGIN:VCALENDAR
VERSION:2.0
PRODID:-//Squarespace Inc/Squarespace 6//v6//EN
BEGIN:VEVENT
UID:565d804fe4b03e8549e6a570@squarespace.com
DTSTAMP:20160129T205300Z
DTSTART:20160212T210000Z
DTEND:20160214T030000Z
SUMMARY:Art Exhibition: Reflection
GEO:-43.296542;172.684089
LOCATION:id Gallery\, Main North Road\, Waikuku\, Canterbury\, New Zealand
END:VEVENT
END:VCALENDAR
