BEGIN:VCALENDAR
VERSION:2.0
PRODID:-//Squarespace Inc/Squarespace 6//v6//EN
BEGIN:VEVENT
UID:57f17f15725e25e914a8a07f@squarespace.com
DTSTAMP:20161002T214644Z
DTSTART:20161007T210000Z
DTEND:20161008T030000Z
SUMMARY:Pegasus Bay Art Show Open Day
GEO:-43.313913;172.691895
LOCATION:Pegasus Bay School\, Solander Road\, Paegasus\, New Zealand
END:VEVENT
END:VCALENDAR
