BEGIN:VCALENDAR
VERSION:2.0
PRODID:-//Squarespace Inc/Squarespace 6//v6//EN
BEGIN:VEVENT
UID:565d7e8ce4b0eb8ce7d27e1f@squarespace.com
DTSTAMP:20160108T113118Z
DTSTART:20160109T223000Z
DTEND:20160110T020000Z
SUMMARY:Sand Sculpture Competition
GEO:-43.287104;172.716115
LOCATION:Waikuku Beach\, North Canterbury\, New Zealand
END:VEVENT
END:VCALENDAR
